BEGIN:VCALENDAR
VERSION:2.0
PRODID:-//ChamberMaster//Event Calendar 2.0//EN
METHOD:PUBLISH
X-PUBLISHED-TTL:P3D
REFRESH-INTERVAL:P3D
CALSCALE:GREGORIAN
BEGIN:VEVENT
DTSTART:20220720T133000Z
DTEND:20220720T143000Z
X-MICROSOFT-CDO-ALLDAYEVENT:FALSE
SUMMARY:Your Health Matters
DESCRIPTION:. Please join us and staff from the Kennebunkport Health Department to identify ways to improve healthy choices and overall well-being. Copies of the book Funny Farm by Laurie Zaleski are available at the library. Not able to read the book before the discussion? Please feel free to join us and learn more about this month's book pick. Help set the course for a healthy you! Graves Library is located at 18 Maine Street\, Kennebunkport\, Maine. Please give us a call for further details about this healthy monthly program. (967-2778)
X-ALT-DESC;FMTTYPE=text/html:. Please join us and staff from the Kennebunkport Health Department to identify ways to improve healthy choices and overall well-being. Copies of the book Funny Farm by Laurie Zaleski are available at the library. Not able to read the book before the discussion? Please feel free to join us and learn more about this month&rsquo\;s book pick. Help set the course for a healthy you! Graves Library is located at 18 Maine Street\, Kennebunkport\, Maine. Please give us a call for further details about this healthy monthly program. (967-2778)
LOCATION:Louis T. Graves Memorial Public Library 18 Maine Street\, Kennebunkport
UID:e.1923.17515
SEQUENCE:3
DTSTAMP:20260419T192217Z
URL:https://chamber.gokennebunks.com/events/details/your-health-matters-07-20-2022-17515
END:VEVENT

END:VCALENDAR
