BEGIN:VCALENDAR
VERSION:2.0
PRODID:-//ChamberMaster//Event Calendar 2.0//EN
METHOD:PUBLISH
X-PUBLISHED-TTL:P3D
REFRESH-INTERVAL:P3D
CALSCALE:GREGORIAN
BEGIN:VEVENT
DTSTART:20240618T210000Z
DTEND:20240618T230000Z
X-MICROSOFT-CDO-ALLDAYEVENT:FALSE
SUMMARY:Young Professionals: Social Mixer at The Pilot House
DESCRIPTION:Young Professionals! Join us on Tuesday\, June 18 from 5-7 PM at The Pilot House for a social mixer. \n\n\n\nThe address is 4 Western Ave\, Kennebunk. \n\n \n\nThere will be networking\, great conversation as well as food and drinks. There is no fee to attend but you will be responsible for purchasing your own food and drinks.\n\n\n\nThe Pilot House Restaurant recently went through a BEAUTIFUL renovation -- a must see! \n\n \n\nRSVP to members@gokennebunks.com for a headcount.\n\n \n\nWe look forward to seeing you there!
X-ALT-DESC;FMTTYPE=text/html:<div><span style="font-size:18px\;"><strong>Young Professionals! Join us on Tuesday\, June 18 from 5-7 PM at The Pilot House for a social mixer.&nbsp\;</strong><br />\n<br />\nThe address is 4 Western Ave\, Kennebunk.&nbsp\;</span><br />\n&nbsp\;</div>\n\n<div><span style="font-size:18px\;">There will be networking\, great conversation as well as food and drinks. There is no fee to attend but you will be responsible for purchasing your own food and drinks.<br />\n<br />\nThe Pilot House Restaurant recently went through a BEAUTIFUL renovation -- a must see!&nbsp\;</span><br />\n&nbsp\;</div>\n\n<div><span style="font-size:18px\;">RSVP to members@gokennebunks.com for a headcount.</span><br />\n&nbsp\;</div>\n\n<div><span style="font-size:18px\;">We look forward to seeing you there!</span></div>\n
LOCATION:The Pilot House 4 Western Ave\, Kennebunk
UID:e.1923.25314
SEQUENCE:3
DTSTAMP:20260421T140309Z
URL:https://chamber.gokennebunks.com/events/details/young-professionals-social-mixer-at-the-pilot-house-25314
END:VEVENT

END:VCALENDAR
