BEGIN:VCALENDAR
VERSION:2.0
PRODID:-//ChamberMaster//Event Calendar 2.0//EN
METHOD:PUBLISH
X-PUBLISHED-TTL:P3D
REFRESH-INTERVAL:P3D
CALSCALE:GREGORIAN
BEGIN:VEVENT
DTSTART:20240628T160000Z
DTEND:20240628T170000Z
X-MICROSOFT-CDO-ALLDAYEVENT:FALSE
SUMMARY:Young Professionals: Nature Trail Walk at Wonder Brook Preserve
DESCRIPTION:Young Professionals! Join us on Friday\, June 28 from 12-1 PM for a Nature Trail Walk at Wonder Brook Preserve. \n\n\n\nThe address is 16 Plummer Lane\, Kennebunk. \n\n\n\nWe are excited to partner with the Kennebunk Land Trust for this event!\n\n\n\nExecutive Director\, Sandy Gilbreath\, will greet folks at the beginning and talk about all the great work the Kennebunk Land Trust is doing. From there\, she'll guide us along the beautiful preserve for a casual trail walk out to the lookout point by the river and back. \n\n\n\nSneakers are highly recommended as well as water and bug spray. We look forward to seeing you there! \n\n\n\nThe Kennebunk Land Trust is a non-profit land trust based in Kennebunk with a mission to permanently conserve and steward land to benefit natural and human communities. They protect undeveloped land in Kennebunk for environmental benefits. They also create and maintain recreational trails open to the public for outdoor recreation and access to nature. They promote environmental education and community health with nature walks\, children's programs and more!
X-ALT-DESC;FMTTYPE=text/html:<div><span style="font-size:18px\;"><strong>Young Professionals! Join us on Friday\, June 28&nbsp\;from 12-1&nbsp\;PM for a Nature Trail Walk at Wonder Brook Preserve.&nbsp\;</strong><br />\n<br />\nThe address is 16 Plummer Lane\, Kennebunk.&nbsp\;<br />\n<br />\nWe are excited to partner with the Kennebunk Land Trust for this event!<br />\n<br />\nExecutive Director\, Sandy Gilbreath\, will greet folks at the beginning and talk about&nbsp\;all the great work the Kennebunk Land Trust is doing. From there\, she&#39\;ll guide us along the beautiful preserve for a casual trail walk out to the lookout point by the river and back.&nbsp\;<br />\n<br />\nSneakers are highly recommended as well as water and bug spray. We look forward to seeing you there!&nbsp\;<br />\n<br />\nThe Kennebunk Land Trust is a non-profit land trust based in Kennebunk with a mission to permanently conserve and steward land to benefit natural and human communities. They protect undeveloped land in Kennebunk for environmental benefits. They also create and maintain recreational trails open to the public for outdoor recreation and access to nature. They promote environmental education and community health with nature walks\, children&#39\;s programs and more!</span></div>\n
LOCATION:Wonder Brook Preserve 16 Plummer Lane\, Kennebunk
UID:e.1923.25385
SEQUENCE:3
DTSTAMP:20260421T140439Z
URL:https://chamber.gokennebunks.com/events/details/young-professionals-nature-trail-walk-at-wonder-brook-preserve-25385
END:VEVENT

END:VCALENDAR
