BEGIN:VCALENDAR
VERSION:2.0
PRODID:-//ChamberMaster//Event Calendar 2.0//EN
METHOD:PUBLISH
X-PUBLISHED-TTL:P3D
REFRESH-INTERVAL:P3D
CALSCALE:GREGORIAN
BEGIN:VEVENT
DTSTART:20240806T160000Z
DTEND:20240806T170000Z
X-MICROSOFT-CDO-ALLDAYEVENT:FALSE
SUMMARY:Young Professionals: Leadership Luncheon Series (8/6/24)
DESCRIPTION:We're excited to host our next Leadership Luncheon Series for the Young Professionals community!\n\n\n\nIn this series\, you'll get tips and tricks (from local leaders) for aspiring entrepreneurs looking to start their own business as well as young leaders looking to grow within their organizations. \n\n\n\nThis event will be held on Tuesday\, August 6 from 12-1PM at Duffy's Tavern & Grill!  Tickets are $25 and covers the workshop\, networking\, a lunch buffet and soft drinks. Pre-registration is required.  \n\n\n\nOur guest speakers for this event will be Tim Heard and Molly Grosse who are both Business Mentors with Seacoast SCORE. \n\n\n\nSCORE provides free mentoring and workshops for people who are looking to start a small business or to improve their existing business.\n\n\n\nTim Heard has enjoyed a long career as a business leader with a diverse background in retail operations\, business development and international sales. \n\n\n\nMolly Grosse has had a multifaceted career spanning finance/accounting\, auditing\, various areas of operations including stores\, supply chain\, human resources\, leadership\, business strategy\, continuity and project management.\n\n\n\nPlease reach out to Kristin at members@gokennebunks.com with any questions. We look forward to seeing you there!
X-ALT-DESC;FMTTYPE=text/html:<span style="font-size:16px\;"><span style="font-size:18px\;"><strong>We&#39\;re excited to host our next Leadership Luncheon Series for the Young Professionals community!</strong></span><br />\n<br />\nIn this series\, you&#39\;ll get tips and tricks (from local leaders) for aspiring entrepreneurs looking to start their own business as well as young leaders looking to grow within their organizations.&nbsp\;<br />\n<br />\nThis event will be held on <strong>Tuesday\, August 6 from 12-1PM</strong> at Duffy&#39\;s Tavern &amp\; Grill!&nbsp\; Tickets are $25 and covers the workshop\, networking\, a lunch buffet and soft drinks. Pre-registration is required.&nbsp\;&nbsp\;<br />\n<br />\nOur guest speakers for this event will be Tim Heard and Molly Grosse who are both Business Mentors with Seacoast SCORE.&nbsp\;<br />\n<br />\nSCORE provides free mentoring and workshops for people who are looking to start a small business or to improve their existing business.<br />\n<br />\nTim Heard has enjoyed a long career as a business leader with a diverse background in retail operations\, business development and international sales.&nbsp\;<br />\n<br />\nMolly Grosse has had a multifaceted career spanning finance/accounting\, auditing\, various areas of operations including stores\, supply chain\, human resources\, leadership\, business strategy\, continuity and project management.<br />\n<br />\nPlease reach out to Kristin at members@gokennebunks.com with any questions. We look forward to seeing you there!</span>
LOCATION:Duffy's Tavern & Grill 4 Main Street\, Kennebunk
UID:e.1923.29662
SEQUENCE:3
DTSTAMP:20260421T124307Z
URL:https://chamber.gokennebunks.com/events/details/young-professionals-leadership-luncheon-series-8-6-24-29662
END:VEVENT

END:VCALENDAR
