BEGIN:VCALENDAR
VERSION:2.0
PRODID:-//ChamberMaster//Event Calendar 2.0//EN
METHOD:PUBLISH
X-PUBLISHED-TTL:P3D
REFRESH-INTERVAL:P3D
CALSCALE:GREGORIAN
BEGIN:VEVENT
DTSTART:20240416T160000Z
DTEND:20240416T170000Z
X-MICROSOFT-CDO-ALLDAYEVENT:FALSE
SUMMARY:Young Professionals: Leadership Luncheon Series (4/16/2024)
DESCRIPTION:We're excited to launch our NEW Leadership Luncheon Series for the Young Professionals community!\n\n\n\nIn this series\, you'll get tips and tricks (from local leaders) for aspiring entrepreneurs looking to start their own business as well as young leaders looking to grow within their organizations. \n\n\n\nOur first event will be held on Tuesday\, April 16 from 12-1PM at Duffy's Tavern & Grill!  Tickets are $25 and covers the workshop\, networking\, a lunch buffet and soft drinks. Pre-registration is required.  \n\n\n\nA special thank you to Camden National Bank for sponsoring this event! \n\n\n\nOur guest speaker for this event will be Chris Cluff. Chris is the President of Paper Trails\, a payroll and HR company with offices in Kennebunk & Topsham. Paper Trails serves small and mid-sized employers across Maine & New England. Paper Trails also just launched a NEW podcast called 'Small Business Big World'. \n\n\n\nPlease reach out to Kristin at members@gokennebunks.com with any questions. We look forward to seeing you there!
X-ALT-DESC;FMTTYPE=text/html:<span style="font-size:16px\;"><span style="font-size:18px\;"><strong>We&#39\;re excited to launch our NEW Leadership Luncheon Series for the Young Professionals community!</strong></span><br />\n<br />\nIn this series\, you&#39\;ll get tips and tricks (from local leaders) for aspiring entrepreneurs looking to start their own business as well as young leaders looking to grow within their organizations.&nbsp\;<br />\n<br />\nOur first event will be held on <strong>Tuesday\, April 16 from 12-1PM</strong> at Duffy&#39\;s Tavern &amp\; Grill!&nbsp\; Tickets are $25 and covers the workshop\, networking\, a lunch buffet and soft drinks. Pre-registration is required.&nbsp\;&nbsp\;<br />\n<br />\nA special thank you to Camden National Bank for sponsoring this event!&nbsp\;<br />\n<br />\nOur guest speaker for this event will be Chris Cluff. Chris is the President of Paper Trails\, a payroll and HR company with offices in Kennebunk &amp\; Topsham. Paper Trails serves small and mid-sized employers across Maine &amp\; New England. Paper Trails also just launched a NEW podcast called &#39\;Small Business Big World&#39\;.&nbsp\;<br />\n<br />\nPlease reach out to Kristin at members@gokennebunks.com with any questions. We look forward to seeing you there!</span>
LOCATION:Duffy's Tavern & Grill 4 Main Street\, Kennebunk
UID:e.1923.24569
SEQUENCE:3
DTSTAMP:20260421T164216Z
URL:https://chamber.gokennebunks.com/events/details/young-professionals-leadership-luncheon-series-4-16-2024-24569
END:VEVENT

END:VCALENDAR
