BEGIN:VCALENDAR
VERSION:2.0
PRODID:-//ChamberMaster//Event Calendar 2.0//EN
METHOD:PUBLISH
X-PUBLISHED-TTL:P3D
REFRESH-INTERVAL:P3D
CALSCALE:GREGORIAN
BEGIN:VEVENT
DTSTART:20230721T160000Z
DTEND:20230721T170000Z
X-MICROSOFT-CDO-ALLDAYEVENT:FALSE
SUMMARY:Young Professionals: Exploring Career & Work-Life Balance Values Workshop
DESCRIPTION:Join us for our next Young Professionals event of 2023! This 'Exploring Career & Work-Life Balance Values' workshop will be hosted at The Infinity Center (1 Alewive Park Road\, Kennebunk) on July 21 from 12-1pm.\n\n\n\nWe are excited to partner with Anush Hansen of Kennebunk Career & Wellness Counseling for this event. This workshop will help participants explore their career and work-life balance values. Attendees will participate in a paired card-sort activity and discussion.\n\n \n\nPlease RSVP to members@gokennebunks.com for a headcount.\n\n \n\nWe look forward to seeing you there!
X-ALT-DESC;FMTTYPE=text/html:<div><span style="color:#000000\;"><span style="font-size:18px\;"><strong>Join us for our next Young Professionals event of 2023! This &#39\;Exploring Career &amp\; Work-Life Balance Values&#39\; workshop&nbsp\;will be hosted at The Infinity Center (<span style="font-family: arial\, sans-serif\;">1 Alewive Park Road\, Kennebunk</span>) on July 21&nbsp\;from 12-1pm.</strong><br />\n<br />\nWe are excited to partner with Anush Hansen of Kennebunk Career &amp\; Wellness Counseling for this event.&nbsp\;<span style="font-family: arial\, sans-serif\;">This workshop will help&nbsp\;participants explore their career and work-life balance values. Attendees will participate in a paired card-sort activity and discussion.</span></span></span><br />\n&nbsp\;</div>\n\n<div><span style="color:#000000\;"><span style="font-size:18px\;">Please RSVP to members@gokennebunks.com for a headcount.</span></span><br />\n&nbsp\;</div>\n\n<div><span style="color:#000000\;"><span style="font-size:18px\;">We look forward to&nbsp\;seeing you there!</span></span></div>\n
LOCATION:The Infinity Center 1 Alewive Park Road\, Kennebunk
UID:e.1923.20873
SEQUENCE:3
DTSTAMP:20260422T050206Z
URL:https://chamber.gokennebunks.com/events/details/young-professionals-exploring-career-work-life-balance-values-workshop-20873
END:VEVENT

END:VCALENDAR
