BEGIN:VCALENDAR
VERSION:2.0
PRODID:-//ChamberMaster//Event Calendar 2.0//EN
METHOD:PUBLISH
X-PUBLISHED-TTL:P3D
REFRESH-INTERVAL:P3D
CALSCALE:GREGORIAN
BEGIN:VEVENT
DTSTART:20250130T133000Z
DTEND:20250130T143000Z
X-MICROSOFT-CDO-ALLDAYEVENT:FALSE
SUMMARY:Young Professionals: Coffee Meet Up!
DESCRIPTION:Join us for our first Young Professionals event of 2025! This event will be hosted at Mornings in Paris (21 Western Ave.\, Kennebunk) on January 30 from 8:30-9:30am.\n\n \n\nJoin us for networking and great conversation! Purchase a coffee or pastry from Mornings in Paris and enjoy meeting other young professionals. \n\n \n\nWe look forward to seeing you there!
X-ALT-DESC;FMTTYPE=text/html:<div><span style="color:#000000\;"><span style="font-size:18px\;"><strong>Join us for our first Young Professionals event of 2025! This event will be hosted at Mornings in Paris (21 Western Ave.\, Kennebunk) on January 30 from 8:30-9:30am.</strong></span></span><br />\n&nbsp\;</div>\n\n<div><span style="color:#000000\;"><span style="font-size:16px\;">Join us for networking and great conversation! Purchase a coffee or pastry from Mornings in Paris and&nbsp\;enjoy meeting other young professionals.&nbsp\;</span></span><br />\n&nbsp\;</div>\n\n<div><span style="color:#000000\;"><span style="font-size:16px\;">We look forward to seeing you there!</span></span></div>\n
LOCATION:Mornings in Paris 21 Western Ave.\, Kennebunk
UID:e.1923.31382
SEQUENCE:3
DTSTAMP:20260421T003421Z
URL:https://chamber.gokennebunks.com/events/details/young-professionals-coffee-meet-up-31382
END:VEVENT

END:VCALENDAR
