BEGIN:VCALENDAR
VERSION:2.0
PRODID:-//ChamberMaster//Event Calendar 2.0//EN
METHOD:PUBLISH
X-PUBLISHED-TTL:P3D
REFRESH-INTERVAL:P3D
CALSCALE:GREGORIAN
BEGIN:VEVENT
DTSTART:20240305T000000Z
DTEND:20240305T013000Z
X-MICROSOFT-CDO-ALLDAYEVENT:FALSE
SUMMARY:YOGA WORKSHOP: lymphatic\, pranayama + elderberry cocktail workshop
DESCRIPTION:can you feel it? There is a lightness arriving earlier in the mornings + the days are lasting a little bit longer. This time of year feels hopeful. Join us for an hour long class that will old you\, allowing you to focus on what lies within. It will backbend you into your future. AND it will revolve you so you can reflect\, process + take what you learn with you. We'll incorporate breath work techniques to help you connect with your inner self and set clear intentions. We'll self massage\, move stagnant energy filling our lymph nodes + prepare our bodies for the arrival of spring.\n\n\n\nyou'll be given an at home guide to a morning + evening breath work practice that can be worked into any daily routine. this workshop will include intention setting for spring\, pranayama and self massage technique in asana. bring energy + restoration to yourself this season by tapping into your internal rhythms.
X-ALT-DESC;FMTTYPE=text/html:<span style="color:rgb(0\, 0\, 0)\; font-family:bitter\; font-size:19.5324px">can you feel it? There is a lightness arriving earlier in the mornings + the days are lasting a little bit longer. This time of year feels hopeful. Join us for an hour long class that will old you\, allowing you to focus on what lies within. It will backbend you into your future. AND it will revolve you so you can reflect\, process + take what you learn with you. We&rsquo\;ll incorporate breath work techniques to help you connect with your inner self and set clear intentions. We&rsquo\;ll self massage\, move stagnant energy filling our lymph nodes + prepare our bodies for the arrival of spring.</span><br />\n<br />\n<span style="color:rgb(0\, 0\, 0)\; font-family:bitter\; font-size:19.5324px">you&rsquo\;ll be given an at home guide to a morning + evening breath work practice that can be worked into any daily routine. this workshop will include intention setting for spring\, pranayama and self massage technique in asana. bring energy + restoration to yourself this season by tapping into your internal rhythms.&nbsp\;</span>
LOCATION:The Daily Sweat Kennebunk 65 Portland RD Kennebunk\, ME 04043
UID:e.1923.24398
SEQUENCE:3
DTSTAMP:20260421T180609Z
URL:https://chamber.gokennebunks.com/events/details/yoga-workshop-lymphatic-pranayama-elderberry-cocktail-workshop-24398
END:VEVENT

END:VCALENDAR
