BEGIN:VCALENDAR
VERSION:2.0
PRODID:-//ChamberMaster//Event Calendar 2.0//EN
METHOD:PUBLISH
X-PUBLISHED-TTL:P3D
REFRESH-INTERVAL:P3D
CALSCALE:GREGORIAN
BEGIN:VEVENT
DTSTART:20240321T214500Z
DTEND:20240321T224500Z
X-MICROSOFT-CDO-ALLDAYEVENT:FALSE
SUMMARY:YOGA WORKSHOP: 108 Sun Salutation
DESCRIPTION:head into spring with heat\, dedication + strength. celebrate the spring equinox by flowing through 108 sun salutations. guided by your own breath\, you can go at your own pace\, feeling your mind + body sync as you move. this cardio + mental challenge will leave you feeling invigorated + your hamstrings will remind you about it all week long.
X-ALT-DESC;FMTTYPE=text/html:<span style="color:rgb(0\, 0\, 0)\; font-family:bitter\; font-size:19.5324px">head into spring with heat\, dedication + strength. celebrate the spring equinox by flowing through 108 sun salutations. guided by your own breath\, you can go at your own pace\, feeling your mind + body sync as you move. this cardio + mental challenge will leave you feeling invigorated + your hamstrings will remind you about it all week long.</span>
LOCATION:The Daily Sweat 65 Portland RD Kennebunk\, ME 04043
UID:e.1923.24410
SEQUENCE:3
DTSTAMP:20260421T180440Z
URL:https://chamber.gokennebunks.com/events/details/yoga-workshop-108-sun-salutation-24410
END:VEVENT

END:VCALENDAR
