BEGIN:VCALENDAR
VERSION:2.0
PRODID:-//ChamberMaster//Event Calendar 2.0//EN
METHOD:PUBLISH
X-PUBLISHED-TTL:P3D
REFRESH-INTERVAL:P3D
CALSCALE:GREGORIAN
BEGIN:VEVENT
DTSTART:20230712T130000Z
DTEND:20230715T140000Z
X-MICROSOFT-CDO-ALLDAYEVENT:FALSE
SUMMARY:YOGA WITH VIRGINIA WILLIAMSON
DESCRIPTION:Wednesday\, July 12\, 9 AM. Yoga with Virginia Williamson\, July 12\, 13\, 14\, 15\, 17 & 19\, 20\, 21\, 22\, 24 Louis T. Graves Memorial Public Library\,18 Maine Street\, Kennebunkport\, 9 AM. Virginia is a Kriya Yogi\, in the lineage of Paramahansa Yogananda\, she holds multiple teaching certifications and has had more than 2200 hours of training\, study\, and practice. She is committed to providing an environment wherein the students may learn from an internal perspective. Students are encouraged to practice according to their own physical\, mental\, and emotional contexts. A $15 donation is suggested for this class and can be paid to the instructor. Classes will also be available via Zoom so friends far and wide can join. For further information\, please call 967-2778 or visit our website at www.graveslibrary.org.
X-ALT-DESC;FMTTYPE=text/html:Wednesday\, July 12\, 9 AM. Yoga with Virginia Williamson\, July 12\, 13\, 14\, 15\, 17 &amp\; 19\, 20\, 21\, 22\, 24 Louis T. Graves Memorial Public Library\,18 Maine Street\, Kennebunkport\, 9 AM. Virginia is a Kriya Yogi\, in the lineage of Paramahansa Yogananda\, she holds multiple teaching certifications and has had more than 2200 hours of training\, study\, and practice. She is committed to providing an environment wherein the students may learn from an internal perspective. Students are encouraged to practice according to their own physical\, mental\, and emotional contexts. A $15 donation is suggested for this class and can be paid to the instructor. Classes will also be available via Zoom so friends far and wide can join. For further information\, please call 967-2778 or visit our website at www.graveslibrary.org.
LOCATION:Louis T. Graves Memorial Public Library\,18 Maine Street\, Kennebunkport\, 9 AM.
UID:e.1923.20884
SEQUENCE:3
DTSTAMP:20260422T050341Z
URL:https://chamber.gokennebunks.com/events/details/yoga-with-virginia-williamson-20884
END:VEVENT

END:VCALENDAR
