BEGIN:VCALENDAR
VERSION:2.0
PRODID:-//ChamberMaster//Event Calendar 2.0//EN
METHOD:PUBLISH
X-PUBLISHED-TTL:P3D
REFRESH-INTERVAL:P3D
CALSCALE:GREGORIAN
BEGIN:VEVENT
DTSTART:20260212T001500Z
DTEND:20260212T004500Z
X-MICROSOFT-CDO-ALLDAYEVENT:FALSE
SUMMARY:yoga teacher training info session
DESCRIPTION:are you interested in teaching yoga? or taking your practice to a deeper level? come get all your questions answered and hear more details on our yoga teacher training. this half hour info session can be attended in person or via zoom.\n\n\n\nsave your spot here: https://www.thedailysweatkennebunk.com/book-a-class
X-ALT-DESC;FMTTYPE=text/html:are you interested in teaching yoga? or taking your practice to a deeper level? come get all your questions answered and hear more details on our yoga teacher training. this half hour info session can be attended in person or via zoom.<br />\n<br />\nsave your spot here: https://www.thedailysweatkennebunk.com/book-a-class
LOCATION:65 Portland RD\, Kennebunk ME\, 04043
UID:e.1923.38365
SEQUENCE:3
DTSTAMP:20260421T204806Z
URL:https://chamber.gokennebunks.com/events/details/yoga-teacher-training-info-session-02-11-2026-38365
END:VEVENT

END:VCALENDAR
