BEGIN:VCALENDAR
VERSION:2.0
PRODID:-//ChamberMaster//Event Calendar 2.0//EN
METHOD:PUBLISH
X-PUBLISHED-TTL:P3D
REFRESH-INTERVAL:P3D
CALSCALE:GREGORIAN
BEGIN:VEVENT
DTSTART:20200926T180000Z
DTEND:20200926T190000Z
X-MICROSOFT-CDO-ALLDAYEVENT:FALSE
SUMMARY:yoga + running workshop
DESCRIPTION:Yoga for runners and athletes is a workshop where we will focus on the demands of running and improve your overall functionality while also helping you prevent injuries in running or sports. We will warm up at the studio and then go for a short run. We will end the workshop by doing a 45 minute yoga class geared towards injury prevention\, stretching and relaxation.
X-ALT-DESC;FMTTYPE=text/html:Yoga for runners and athletes is a workshop where we will focus on the demands of running and improve your overall functionality while also helping you prevent injuries in running or sports. We will warm up at the studio and then go for a short run. We will end the workshop by doing a 45 minute yoga class geared towards injury prevention\, stretching and relaxation.
LOCATION:The Daily Sweat - 65 Portland Rd\, Kennebunk
UID:e.1923.16592
SEQUENCE:3
DTSTAMP:20260420T082438Z
URL:https://chamber.gokennebunks.com/events/details/yoga-running-workshop-16592
END:VEVENT

END:VCALENDAR
