BEGIN:VCALENDAR
VERSION:2.0
PRODID:-//ChamberMaster//Event Calendar 2.0//EN
METHOD:PUBLISH
X-PUBLISHED-TTL:P3D
REFRESH-INTERVAL:P3D
CALSCALE:GREGORIAN
BEGIN:VEVENT
DTSTART:20240929T221500Z
DTEND:20240929T231500Z
X-MICROSOFT-CDO-ALLDAYEVENT:FALSE
SUMMARY:Yoga Nidra at the Salt Works
DESCRIPTION:About Salt Therapy\n\nWhile you relax and breathe\, the super absorbent\, antibacterial and anti-inflammatory dry salt absorbs allergens\, toxins and foreign substances providing a state of relaxation\, rejuvenation and healing that only Salt Therapy can bring. for this class we recommend wearing a t-shirt + shorts so the salt can work it's magic.\n\n\n\nAbout Nidra\n\ncome dressed for sleep\, with your blanket(s) and pillow(s). Yoga Nidra is a powerful meditation technique\, and one of the easiest yoga practices to develop and maintain. While the practitioner rests comfortably in savasana\, this systematic meditation takes you through the five layers of self\, leaving you with a sense of wholeness. since you will be still the entire hour you want to be sure you can keep your body at a comfortable temperature. so really\, bring your blankets and pillows!
X-ALT-DESC;FMTTYPE=text/html:<span style="color:rgb(0\, 0\, 0)\; font-family:arial">About Salt Therapy<br />\nWhile you relax and breathe\, the super absorbent\, antibacterial and anti-inflammatory dry salt absorbs allergens\, toxins and foreign substances providing a state of relaxation\, rejuvenation and healing that only Salt Therapy can bring. for this class we recommend wearing a t-shirt + shorts so the salt can work it&#39\;s magic.<br />\n<br />\nAbout Nidra<br />\ncome dressed for sleep\, with your blanket(s) and pillow(s). Yoga Nidra is a powerful meditation technique\, and one of the easiest yoga practices to develop and maintain. While the practitioner rests comfortably in savasana\, this systematic meditation takes you through the five layers of self\, leaving you with a sense of wholeness. since you will be still the entire hour you want to be sure you can keep your body at a comfortable temperature. so really\, bring your blankets and pillows!</span>
LOCATION:The Salt Works Spa 321 Elm St\, Biddeford\, ME 04005
UID:e.1923.29828
SEQUENCE:3
DTSTAMP:20260421T100054Z
URL:https://chamber.gokennebunks.com/events/details/yoga-nidra-at-the-salt-works-29828
END:VEVENT

END:VCALENDAR
