BEGIN:VCALENDAR
VERSION:2.0
PRODID:-//ChamberMaster//Event Calendar 2.0//EN
METHOD:PUBLISH
X-PUBLISHED-TTL:P3D
REFRESH-INTERVAL:P3D
CALSCALE:GREGORIAN
BEGIN:VEVENT
DTSTART:20240225T111500Z
DTEND:20240226T001500Z
X-MICROSOFT-CDO-ALLDAYEVENT:FALSE
SUMMARY:yoga nidra at salt works
DESCRIPTION:About Salt Therapy While you relax and breathe\, the super absorbent\, antibacterial and anti-inflammatory dry salt absorbs allergens\, toxins and foreign substances providing a state of relaxation\, rejuvenation and healing that only Salt Therapy can bring. for this class we recommend wearing a t-shirt + shorts so the salt can work it's magic. About Nidra come dressed for sleep\, with your blanket(s) and pillow(s). Yoga Nidra is a powerful meditation technique\, and one of the easiest yoga practices to develop and maintain. While the practitioner rests comfortably in savasana\, this systematic meditation takes you through the five layers of self\, leaving you with a sense of wholeness. since you will be still the entire hour you want to be sure you can keep your body at a comfortable temperature. so really\, bring your blankets and pillows!
X-ALT-DESC;FMTTYPE=text/html:About Salt Therapy While you relax and breathe\, the super absorbent\, antibacterial and anti-inflammatory dry salt absorbs allergens\, toxins and foreign substances providing a state of relaxation\, rejuvenation and healing that only Salt Therapy can bring. for this class we recommend wearing a t-shirt + shorts so the salt can work it&#39\;s magic. About Nidra come dressed for sleep\, with your blanket(s) and pillow(s). Yoga Nidra is a powerful meditation technique\, and one of the easiest yoga practices to develop and maintain. While the practitioner rests comfortably in savasana\, this systematic meditation takes you through the five layers of self\, leaving you with a sense of wholeness. since you will be still the entire hour you want to be sure you can keep your body at a comfortable temperature. so really\, bring your blankets and pillows!
LOCATION:salt works spa 321 elm st. biddeford\, me
UID:e.1923.23359
SEQUENCE:3
DTSTAMP:20260421T204832Z
URL:https://chamber.gokennebunks.com/events/details/yoga-nidra-at-salt-works-23359
END:VEVENT

END:VCALENDAR
