BEGIN:VCALENDAR
VERSION:2.0
PRODID:-//ChamberMaster//Event Calendar 2.0//EN
METHOD:PUBLISH
X-PUBLISHED-TTL:P3D
REFRESH-INTERVAL:P3D
CALSCALE:GREGORIAN
BEGIN:VEVENT
DTSTART:20190914T200000Z
DTEND:20190914T210000Z
X-MICROSOFT-CDO-ALLDAYEVENT:FALSE
SUMMARY:Yoga Nidra
DESCRIPTION:Yoga nidra is a powerful meditation technique\, and one of the easiest yoga practices to develop and maintain. While the practitioner rests comfortably in savasana\, this systematic meditation takes you through the five layers of self\, leaving you with a sense of wholeness.
X-ALT-DESC;FMTTYPE=text/html:Yoga nidra is a powerful meditation technique\, and one of the easiest yoga practices to develop and maintain. While the practitioner rests comfortably in savasana\, this systematic meditation takes you through the five layers of self\, leaving you with a sense of wholeness.
LOCATION:The Daily Sweat 65 Portland Rd.\, Kennebunk
UID:e.1923.13418
SEQUENCE:3
DTSTAMP:20260424T153939Z
URL:https://chamber.gokennebunks.com/events/details/yoga-nidra-13418
END:VEVENT

END:VCALENDAR
