BEGIN:VCALENDAR
VERSION:2.0
PRODID:-//ChamberMaster//Event Calendar 2.0//EN
METHOD:PUBLISH
X-PUBLISHED-TTL:P3D
REFRESH-INTERVAL:P3D
CALSCALE:GREGORIAN
BEGIN:VEVENT
DTSTART:20191018T220000Z
DTEND:20191018T230000Z
X-MICROSOFT-CDO-ALLDAYEVENT:FALSE
SUMMARY:Yoga Nidra
DESCRIPTION:Yoga nidra is a powerful meditation technique\, and one of the easiest yoga practices to develop and maintain. While the practitioner rests comfortably in savasana\, this systematic meditation takes you through the five layers of self\, leaving you with a sense of wholeness.\n\n\n\nincluded with your membership\, $20 drop in
X-ALT-DESC;FMTTYPE=text/html:<p>Yoga nidra is a powerful meditation technique\, and one of the easiest yoga practices to develop and maintain. While the practitioner rests comfortably in savasana\, this systematic meditation takes you through the five layers of self\, leaving you with a sense of wholeness.<br />\n<br />\nincluded with your membership\, $20 drop in</p>\n
LOCATION:The Daily Sweat 65 Portland Road Building A\, Suite D Kennebunk\, ME 04043
UID:e.1923.13478
SEQUENCE:3
DTSTAMP:20260424T140804Z
URL:https://chamber.gokennebunks.com/events/details/yoga-nidra-10-18-2019-13478
END:VEVENT

END:VCALENDAR
