BEGIN:VCALENDAR
VERSION:2.0
PRODID:-//ChamberMaster//Event Calendar 2.0//EN
METHOD:PUBLISH
X-PUBLISHED-TTL:P3D
REFRESH-INTERVAL:P3D
CALSCALE:GREGORIAN
BEGIN:VEVENT
DTSTART:20190921T200000Z
DTEND:20190921T210000Z
X-MICROSOFT-CDO-ALLDAYEVENT:FALSE
SUMMARY:Yoga Nidra
DESCRIPTION:Yoga nidra is a powerful meditation technique\, and one of the easiest yoga practices to develop and maintain. While the practitioner rests comfortably in savasana\, this systematic meditation takes you through the five layers of self\, leaving you with a sense of wholeness.
X-ALT-DESC;FMTTYPE=text/html:<span style="font-family:source sans pro\; font-size:16px">Yoga nidra is a powerful meditation technique\, and one of the easiest yoga practices to develop and maintain. While the practitioner rests comfortably in savasana\, this systematic meditation takes you through the five layers of self\, leaving you with a sense of wholeness.</span>
LOCATION:The Daily Sweat 65 Portland Road Building A\, Suite D Kennebunk\, ME 04043
UID:e.1923.13427
SEQUENCE:3
DTSTAMP:20260424T154033Z
URL:https://chamber.gokennebunks.com/events/details/yoga-nidra-09-21-2019-13427
END:VEVENT

END:VCALENDAR
