BEGIN:VCALENDAR
VERSION:2.0
PRODID:-//ChamberMaster//Event Calendar 2.0//EN
METHOD:PUBLISH
X-PUBLISHED-TTL:P3D
REFRESH-INTERVAL:P3D
CALSCALE:GREGORIAN
BEGIN:VEVENT
DTSTART:20240428T213000Z
DTEND:20240428T223000Z
X-MICROSOFT-CDO-ALLDAYEVENT:FALSE
SUMMARY:yoga nidra
DESCRIPTION:join us for Yoga Nidra\, a powerful meditation technique + one of the easiest yoga practices to develop and maintain. this systematic meditation takes you through the five layers of self\, leaving you with a sense of wholeness. since you will be still the entire hour you want to be sure you can keep your body at a comfortable temperature. Please bring your blankets and pillows!
X-ALT-DESC;FMTTYPE=text/html:<span style="color:rgb(0\, 0\, 0)\; font-family:arial">join us for Yoga Nidra\, a powerful meditation technique + one of the easiest yoga practices to develop and maintain. this systematic meditation takes you through the five layers of self\, leaving you with a sense of wholeness. since you will be still the entire hour you want to be sure you can keep your body at a comfortable temperature. Please bring your blankets and pillows!</span>
LOCATION:The Daily Sweat 65 Portland Rd Kennebunk\, ME
UID:e.1923.24493
SEQUENCE:3
DTSTAMP:20260421T164118Z
URL:https://chamber.gokennebunks.com/events/details/yoga-nidra-04-28-2024-24493
END:VEVENT

END:VCALENDAR
