BEGIN:VCALENDAR
VERSION:2.0
PRODID:-//ChamberMaster//Event Calendar 2.0//EN
METHOD:PUBLISH
X-PUBLISHED-TTL:P3D
REFRESH-INTERVAL:P3D
CALSCALE:GREGORIAN
BEGIN:VEVENT
DTSTART:20200110T170000Z
DTEND:20200110T170000Z
X-MICROSOFT-CDO-ALLDAYEVENT:FALSE
SUMMARY:Yoga Nidra
DESCRIPTION:Yoga nidra is a powerful meditation technique\, and one of the easiest yoga practices to develop and maintain. While the practitioner rests comfortably in savasana\, this systematic meditation takes you through the five layers of self\, leaving you with a sense of wholeness. included with your membership.
X-ALT-DESC;FMTTYPE=text/html:Yoga nidra is a powerful meditation technique\, and one of the easiest yoga practices to develop and maintain. While the practitioner rests comfortably in savasana\, this systematic meditation takes you through the five layers of self\, leaving you with a sense of wholeness. included with your membership.
LOCATION:The Daily Sweat 65 Portland RD Building A\, Unit D\, Kennebunk\, ME 04043
UID:e.1923.15578
SEQUENCE:3
DTSTAMP:20260424T114239Z
URL:https://chamber.gokennebunks.com/events/details/yoga-nidra-01-10-2020-15578
END:VEVENT

END:VCALENDAR
