BEGIN:VCALENDAR
VERSION:2.0
PRODID:-//ChamberMaster//Event Calendar 2.0//EN
METHOD:PUBLISH
X-PUBLISHED-TTL:P3D
REFRESH-INTERVAL:P3D
CALSCALE:GREGORIAN
BEGIN:VEVENT
DTSTART:20231209T200000Z
DTEND:20231209T220000Z
X-MICROSOFT-CDO-ALLDAYEVENT:FALSE
SUMMARY:yoga beyond asana workshop
DESCRIPTION:Go beyond the asana! Focusing on the eight limbs of yoga. Yama\, Niyama\, Asana\, Pranayama\, Pratyahara\, Dharana\, Dhyana\, Samadhi. Be prepared to go beyond the asana with a few short practices of each limb in a fun and informative workshop. Integrating these limbs can bring a new and deeper meaning to your yoga practice.
X-ALT-DESC;FMTTYPE=text/html:Go beyond the asana! Focusing on the eight limbs of yoga. Yama\, Niyama\, Asana\, Pranayama\, Pratyahara\, Dharana\, Dhyana\, Samadhi. Be prepared to go beyond the asana with a few short practices of each limb in a fun and informative workshop. Integrating these limbs can bring a new and deeper meaning to your yoga practice.
LOCATION:The Daily Sweat Kennebunk 65 Portland Rd\, Kennebunk\, ME 04043
UID:e.1923.23106
SEQUENCE:3
DTSTAMP:20260421T220801Z
URL:https://chamber.gokennebunks.com/events/details/yoga-beyond-asana-workshop-23106
END:VEVENT

END:VCALENDAR
