BEGIN:VCALENDAR
VERSION:2.0
PRODID:-//ChamberMaster//Event Calendar 2.0//EN
METHOD:PUBLISH
X-PUBLISHED-TTL:P3D
REFRESH-INTERVAL:P3D
CALSCALE:GREGORIAN
BEGIN:VEVENT
DTSTART:20250607T120000Z
DTEND:20250607T160000Z
X-MICROSOFT-CDO-ALLDAYEVENT:FALSE
SUMMARY:Yard Sale\, Coventry Woods Annual
DESCRIPTION:Coventry Woods Annual Yard Sale 268 units eligible to participate.
X-ALT-DESC;FMTTYPE=text/html:Coventry Woods Annual Yard Sale 268 units eligible to participate.
LOCATION:Coventry Woods Condo Association OFF Cat Mousam Road\, Kennebunk
UID:e.1923.35076
SEQUENCE:3
DTSTAMP:20260421T062306Z
URL:https://chamber.gokennebunks.com/events/details/yard-sale-coventry-woods-annual-35076
END:VEVENT

END:VCALENDAR
