BEGIN:VCALENDAR
VERSION:2.0
PRODID:-//ChamberMaster//Event Calendar 2.0//EN
METHOD:PUBLISH
X-PUBLISHED-TTL:P3D
REFRESH-INTERVAL:P3D
CALSCALE:GREGORIAN
BEGIN:VEVENT
DTSTART:20250721T120000Z
DTEND:20250721T170000Z
X-MICROSOFT-CDO-ALLDAYEVENT:FALSE
SUMMARY:Yard Sale
DESCRIPTION:Come support the comp teams heading to Nationals!! Max Capacity Hip Hop Crew and Modern Competition Dance Team. Come treasure hunting at our Yard Sale Fundraiser and support two amazing dance teams! We're selling everything from clothes and toys to home goods and more all at great prices. Every dollar raised helps fund costumes\, competition fees\, travel\, and training.
X-ALT-DESC;FMTTYPE=text/html:Come support the comp teams heading to Nationals!! Max Capacity Hip Hop Crew and Modern Competition Dance Team. Come treasure hunting at our Yard Sale Fundraiser and support two amazing dance teams! We&rsquo\;re selling everything from clothes and toys to home goods and more&mdash\;all at great prices. Every dollar raised helps fund costumes\, competition fees\, travel\, and training.
LOCATION:1048 Portland RD\, Arundel ME\, 04046
UID:e.1923.34909
SEQUENCE:3
DTSTAMP:20260421T073144Z
URL:https://chamber.gokennebunks.com/events/details/yard-sale-34909
END:VEVENT

END:VCALENDAR
