BEGIN:VCALENDAR
VERSION:2.0
PRODID:-//ChamberMaster//Event Calendar 2.0//EN
METHOD:PUBLISH
X-PUBLISHED-TTL:P3D
REFRESH-INTERVAL:P3D
CALSCALE:GREGORIAN
BEGIN:VEVENT
DTSTART:20250409T200000Z
DTEND:20250410T010000Z
X-MICROSOFT-CDO-ALLDAYEVENT:FALSE
SUMMARY:Worthy Wednesday to Benefit Maine Lobster Community Alliance
DESCRIPTION:"Worthy Wednesdays" at The Burleigh: The Kennebunkport Inn (home to The Burleigh restaurant) will hosts "Worthy Wednesdays" on April 9 where diners can support the Maine Lobster Community Alliance (MLCA) just by enjoying a delicious meal. Ten percent of the evening's proceeds will benefit the non-profit organization. Reserve your spot today on Open Table.
X-ALT-DESC;FMTTYPE=text/html:<span style="color:rgb(0\, 29\, 53)\; font-family:google sans\,roboto\,arial\,sans-serif\; font-size:16px"><strong>&quot\;Worthy Wednesdays&quot\; at The Burleigh:</strong>&nbsp\;</span><span style="color:rgb(0\, 29\, 53)\; font-family:google sans\,roboto\,arial\,sans-serif\; font-size:16px">The Kennebunkport Inn (home to The Burleigh restaurant) will hosts &quot\;Worthy Wednesdays&quot\; on April 9 where diners can support the Maine Lobster Community Alliance (MLCA) just by enjoying a delicious meal. Ten percent of the evening&#39\;s proceeds will benefit the non-profit organization. Reserve your spot today on Open Table.</span>
LOCATION:The Burleigh at Kennebunkport Inn 1 Dock Square Kennebunkport\, ME
UID:e.1923.33283
SEQUENCE:3
DTSTAMP:20260421T050219Z
URL:https://chamber.gokennebunks.com/events/details/worthy-wednesday-to-benefit-maine-lobster-community-alliance-33283
END:VEVENT

END:VCALENDAR
