BEGIN:VCALENDAR
VERSION:2.0
PRODID:-//ChamberMaster//Event Calendar 2.0//EN
METHOD:PUBLISH
X-PUBLISHED-TTL:P3D
REFRESH-INTERVAL:P3D
CALSCALE:GREGORIAN
BEGIN:VEVENT
DTSTART:20180505T140000Z
DTEND:20180505T200000Z
X-MICROSOFT-CDO-ALLDAYEVENT:FALSE
SUMMARY:World War 1 Exhibition Opens!
DESCRIPTION:Be among the first to enjoy the Brick Store Museum's World War I centennial exhibition\, "From the Kennebunks to the Argonne Forest: The Great War That Changed America." Exhibition runs through December 31st.
X-ALT-DESC;FMTTYPE=text/html:Be among the first to enjoy the Brick Store Museum&rsquo\;s World War I centennial exhibition\, &ldquo\;From the Kennebunks to the Argonne Forest: The Great War That Changed America.&rdquo\; Exhibition runs through December 31st.<br />\n<br />\n&nbsp\;
LOCATION:Located at the Brick Store Museum 117 Main Street Kennebunk\, ME
UID:e.1923.9798
SEQUENCE:3
DTSTAMP:20260425T154918Z
URL:https://chamber.gokennebunks.com/events/details/world-war-1-exhibition-opens-9798
END:VEVENT

END:VCALENDAR
