BEGIN:VCALENDAR
VERSION:2.0
PRODID:-//ChamberMaster//Event Calendar 2.0//EN
METHOD:PUBLISH
X-PUBLISHED-TTL:P3D
REFRESH-INTERVAL:P3D
CALSCALE:GREGORIAN
BEGIN:VEVENT
DTSTART:20231016T150000Z
DTEND:20231016T154500Z
X-MICROSOFT-CDO-ALLDAYEVENT:FALSE
SUMMARY:World mental health day mediation class
DESCRIPTION:take this opportunity to join us for a 45 minute meditation class at 11A. a meditation practice is about learning to be aware of what's going on in the present moment and to maintain that awareness regardless of the mind's tendency to wander. learn the power of meditation by bringing mindfulness to your breath + your body to find connection within.
X-ALT-DESC;FMTTYPE=text/html:<span style="color: rgb(34\, 34\, 34)\; font-family: Arial\; font-size: 13.3333px\;">take this opportunity to join us for a 45 minute meditation class at 11A. a meditation practice is about learning to be aware of what&rsquo\;s going on in the present moment and to maintain that awareness regardless of the mind&rsquo\;s tendency to wander. learn the power of meditation by bringing mindfulness to your breath + your body to find connection within.&nbsp\;</span>
LOCATION:The Daily Sweat Kennebunk 65 Portland Rd. Kennebunk\, ME 04043
UID:e.1923.22479
SEQUENCE:3
DTSTAMP:20260422T021342Z
URL:https://chamber.gokennebunks.com/events/details/world-mental-health-day-mediation-class-22479
END:VEVENT

END:VCALENDAR
