BEGIN:VCALENDAR
VERSION:2.0
PRODID:-//ChamberMaster//Event Calendar 2.0//EN
METHOD:PUBLISH
X-PUBLISHED-TTL:P3D
REFRESH-INTERVAL:P3D
CALSCALE:GREGORIAN
BEGIN:VEVENT
DTSTART:20220730T150000Z
DTEND:20220730T180000Z
X-MICROSOFT-CDO-ALLDAYEVENT:FALSE
SUMMARY:Woofstock: Family-Friendly\, Dog-Friendly Food & Beer Festival
DESCRIPTION:Woofstock is FREE family-friendly\, dog-friendly beer and food festival held annually on the grounds of the Animal Welfare Society\, 46 Holland Road in Kennebunk. Enjoy live tunes\, dozens of local craft brews\, 14 different food trucks\, games\, kids activities\, dog agility courses\, raffles\, vendors\, giveaways and so much more! Music provided by Seacoast Oldies and the Kennebunk River Band. Woofstock is generously presented by Kennebunk Savings. Sponsorships\, donations\, raffle tickets and beer garden tasting sales benefit AWS' Companions for Life Fund\, providing veterinary care to pets in need right here in our community.
X-ALT-DESC;FMTTYPE=text/html:Woofstock is FREE family-friendly\, dog-friendly beer and food festival held annually on the grounds of the Animal Welfare Society\, 46 Holland Road in Kennebunk. Enjoy live tunes\, dozens of local craft brews\, 14 different food trucks\, games\, kids activities\, dog agility courses\, raffles\, vendors\, giveaways and so much more! Music provided by Seacoast Oldies and the Kennebunk River Band. Woofstock is generously presented by Kennebunk Savings. Sponsorships\, donations\, raffle tickets and beer garden tasting sales benefit AWS&#39\; Companions for Life Fund\, providing veterinary care to pets in need right here in our community.
LOCATION:Animal Welfare Society 46 Holland Road Kennebunk\, ME 04043
UID:e.1923.17330
SEQUENCE:3
DTSTAMP:20260419T180146Z
URL:https://chamber.gokennebunks.com/events/details/woofstock-family-friendly-dog-friendly-food-beer-festival-17330
END:VEVENT

END:VCALENDAR
