BEGIN:VCALENDAR
VERSION:2.0
PRODID:-//ChamberMaster//Event Calendar 2.0//EN
METHOD:PUBLISH
X-PUBLISHED-TTL:P3D
REFRESH-INTERVAL:P3D
CALSCALE:GREGORIAN
BEGIN:VEVENT
DTSTART:20170817T213000Z
DTEND:20170817T223000Z
X-MICROSOFT-CDO-ALLDAYEVENT:FALSE
SUMMARY:Women's Rights History Panel Discussion
DESCRIPTION:Anne Gass\, author of "Voting Down the Rose: Florence Brooks Whitehouse and Maine's Fight for Woman Suffrage\," will present an intergenerational women's rights history panel discussion on Thursday\, August 17\, at 5:30pm at the Brick Store Museum.\n\n\n\nAudience participation is welcome. Admission is $5 per person and free for Museum Members. Light refreshments served. Supported by the Maine Humanities Council.
X-ALT-DESC;FMTTYPE=text/html:<span style="color:rgb(75\, 79\, 86)\; font-family:helvetica\,arial\,sans-serif\; font-size:14px">Anne Gass\, author of &quot\;Voting Down the Rose: Florence Brooks Whitehouse and Maine&rsquo\;s Fight for Woman Suffrage\,&quot\; will present an intergenerational women&rsquo\;s rights history panel discussion on Thursday\, August 17\, at 5:30pm at the Brick Store Museum.</span><br />\n<br />\n<span style="color:rgb(75\, 79\, 86)\; font-family:helvetica\,arial\,sans-serif\; font-size:14px">Audience participation is welcome. Admission is $5 per person and free for Museum Members. Light refreshments served. Supported by the&nbsp\;</span><a href="https://www.facebook.com/mainehumanities/" style="color: rgb(54\, 88\, 153)\; cursor: pointer\; text-decoration-line: none\; font-family: Helvetica\, Arial\, sans-serif\; font-size: 14px\;">Maine Humanities Council</a><span style="color:rgb(75\, 79\, 86)\; font-family:helvetica\,arial\,sans-serif\; font-size:14px">.</span>
LOCATION:Brick Store Museum 117 Main Street\, Kennebunk\, ME 04043
UID:e.1923.5923
SEQUENCE:3
DTSTAMP:20260426T035559Z
URL:https://chamber.gokennebunks.com/events/details/women-s-rights-history-panel-discussion-5923
END:VEVENT

END:VCALENDAR
