BEGIN:VCALENDAR
VERSION:2.0
PRODID:-//ChamberMaster//Event Calendar 2.0//EN
METHOD:PUBLISH
X-PUBLISHED-TTL:P3D
REFRESH-INTERVAL:P3D
CALSCALE:GREGORIAN
BEGIN:VEVENT
DTSTART:20260118T000000Z
DTEND:20260118T020000Z
X-MICROSOFT-CDO-ALLDAYEVENT:FALSE
SUMMARY:Women of a Certain Age Comedy Show
DESCRIPTION:?What started as a fun idea among friends has grown into a national comedy sensation\, and they're coming to Sanford Performing Arts Center for a show at 7 p.m. Saturday\, Jan. 17. Created by comedy veteran Carole Montgomery\, Women of a Certain Age Comedy shines a spotlight on the hilarious\, trailblazing women who aren't done and aren't holding back. In an industry where women over 50 are often overlooked\, WOACA flips the script. These bold\, brilliant comedians bring decades of experience\, razor-sharp wit\, and zero apologies to the stage proving that funny only gets better with age. From sold-out shows across the country to record-breaking Showtime specials\, Women of a Certain Age Comedy is more than a stand-up show   it's a movement. Get ready to laugh\, cheer\, and celebrate the women who paved the way and are still stealing the spotlight. Tickets are $30-$49\, with discounts for subscribers\, students\, seniors and military veterans. For information\, visit sanfordpac.org or call the box office at (207) 206-1126\, or visit in person Tuesdays and Thursdays from 9 a.m.-noon.
X-ALT-DESC;FMTTYPE=text/html:?What started as a fun idea among friends has grown into a national comedy sensation\, and they&#39\;re coming to Sanford Performing Arts Center for a show at 7 p.m. Saturday\, Jan. 17. Created by comedy veteran Carole Montgomery\, Women of a Certain Age Comedy shines a spotlight on the hilarious\, trailblazing women who aren&rsquo\;t done&mdash\;and aren&rsquo\;t holding back. In an industry where women over 50 are often overlooked\, WOACA flips the script. These bold\, brilliant comedians bring decades of experience\, razor-sharp wit\, and zero apologies to the stage&mdash\;proving that funny only gets better with age. From sold-out shows across the country to record-breaking Showtime specials\, Women of a Certain Age Comedy is more than a stand-up show &mdash\; it&rsquo\;s a movement. Get ready to laugh\, cheer\, and celebrate the women who paved the way and are still stealing the spotlight. Tickets are $30-$49\, with discounts for subscribers\, students\, seniors and military veterans. For information\, visit sanfordpac.org or call the box office at (207) 206-1126\, or visit in person Tuesdays and Thursdays from 9 a.m.-noon.
LOCATION:Sanford Performing Arts Center\, 100 Alumni Blvd.
UID:e.1923.38052
SEQUENCE:3
DTSTAMP:20260421T192414Z
URL:https://chamber.gokennebunks.com/events/details/women-of-a-certain-age-comedy-show-38052
END:VEVENT

END:VCALENDAR
