BEGIN:VCALENDAR
VERSION:2.0
PRODID:-//ChamberMaster//Event Calendar 2.0//EN
METHOD:PUBLISH
X-PUBLISHED-TTL:P3D
REFRESH-INTERVAL:P3D
CALSCALE:GREGORIAN
BEGIN:VEVENT
DTSTART:20240818T000000Z
DTEND:20240818T030000Z
X-MICROSOFT-CDO-ALLDAYEVENT:FALSE
SUMMARY:Wolfman Jack - Grateful Dead Tribute
DESCRIPTION:Join us for food and drinks before the show in our outdoor garden starting at 6pm!\n\nThe night's food truck is Pigpen's BBQ!\n\n \n\nWolfman Jack is a dynamic live music project featuring talented musicians from the New England area\, dedicated to capturing the psychedelic and electrifying spirit of The Grateful Dead from their "Live Dead" to "Europe '72" era. This band embodies the essence of a true dance band\, drawing inspiration from legendary venues such as The Fillmore West\, Carousel Ballroom\, Avalon Ballroom\, Winterland Arena\, and the Strand Lyceum.\n\nWith meticulous attention to detail\, Wolfman Jack recreates those vintage sets from the early days when The Grateful Dead were carving out their legacy as a live music phenomenon. Each performance is a journey back in time\, filled with the improvisational magic\, intricate jams\, and infectious energy that defined The Grateful Dead's early concerts.\n\nExperience the nostalgia and excitement of those iconic live shows as Wolfman Jack brings the legendary sounds of The Grateful Dead to life. Don't miss the chance to dance\, reminisce\, and revel in the timeless music that continues to inspire generations. Join us for an unforgettable night of classic Dead tunes and unparalleled musical chemistry.
X-ALT-DESC;FMTTYPE=text/html:<p>Join us for food and drinks before the show in our outdoor garden starting at&nbsp\;6pm!</p>\n\n<p>The night&rsquo\;s food truck is&nbsp\;Pigpen&#39\;s BBQ!<br />\n&nbsp\;</p>\n\n<p>Wolfman Jack is a dynamic live music project featuring talented musicians from the New England area\, dedicated to capturing the psychedelic and electrifying spirit of The Grateful Dead from their &ldquo\;Live Dead&rdquo\; to &ldquo\;Europe &rsquo\;72&rdquo\; era. This band embodies the essence of a true dance band\, drawing inspiration from legendary venues such as The Fillmore West\, Carousel Ballroom\, Avalon Ballroom\, Winterland Arena\, and the Strand Lyceum.</p>\n\n<p>With meticulous attention to detail\, Wolfman Jack recreates those vintage sets from the early days when The Grateful Dead were carving out their legacy as a live music phenomenon. Each performance is a journey back in time\, filled with the improvisational magic\, intricate jams\, and infectious energy that defined The Grateful Dead&rsquo\;s early concerts.</p>\n\n<p>Experience the nostalgia and excitement of those iconic live shows as Wolfman Jack brings the legendary sounds of The Grateful Dead to life. Don&rsquo\;t miss the chance to dance\, reminisce\, and revel in the timeless music that continues to inspire generations. Join us for an unforgettable night of classic Dead tunes and unparalleled musical chemistry.</p>\n
LOCATION:Vinegar Hill Music Theatre 53 Old Post Road Arundel\, Maine 04046
UID:e.1923.29808
SEQUENCE:3
DTSTAMP:20260421T111439Z
URL:https://chamber.gokennebunks.com/events/details/wolfman-jack-grateful-dead-tribute-29808
END:VEVENT

END:VCALENDAR
