BEGIN:VCALENDAR
VERSION:2.0
PRODID:-//ChamberMaster//Event Calendar 2.0//EN
METHOD:PUBLISH
X-PUBLISHED-TTL:P3D
REFRESH-INTERVAL:P3D
CALSCALE:GREGORIAN
BEGIN:VEVENT
DTSTART:20241221T160000Z
DTEND:20241221T170000Z
X-MICROSOFT-CDO-ALLDAYEVENT:FALSE
SUMMARY:winter solstice
DESCRIPTION:head into winter with heat\, dedication + strength. celebrate the winter solstice by flowing through 108 sun salutations. guided by your own breath\, you can go at your own pace\, feeling your mind + body sync as you move.
X-ALT-DESC;FMTTYPE=text/html:<span style="color:rgb(0\, 0\, 0)\; font-family:arial">head into winter with heat\, dedication + strength. celebrate the winter solstice by flowing through 108 sun salutations. guided by your own breath\, you can go at your own pace\, feeling your mind + body sync as you move.</span>
LOCATION:The Daily Sweat 65 Portland Rd Kennebunk\, ME 04043
UID:e.1923.31143
SEQUENCE:3
DTSTAMP:20260421T020748Z
URL:https://chamber.gokennebunks.com/events/details/winter-solstice-12-21-2024-31143
END:VEVENT

END:VCALENDAR
