BEGIN:VCALENDAR
VERSION:2.0
PRODID:-//ChamberMaster//Event Calendar 2.0//EN
METHOD:PUBLISH
X-PUBLISHED-TTL:P3D
REFRESH-INTERVAL:P3D
CALSCALE:GREGORIAN
BEGIN:VEVENT
DTSTART:20231221T224500Z
DTEND:20231221T234500Z
X-MICROSOFT-CDO-ALLDAYEVENT:FALSE
SUMMARY:winter solstice
DESCRIPTION:head into winter with heat\, dedication + strength. celebrate the winter solstice by flowing through 108 sun salutations. guided by your own breath\, you can go at your own pace\, feeling your mind + body sync as you move.
X-ALT-DESC;FMTTYPE=text/html:head into winter with heat\, dedication + strength. celebrate the winter solstice by flowing through 108 sun salutations. guided by your own breath\, you can go at your own pace\, feeling your mind + body sync as you move.
LOCATION:The Daily Sweat Kennebunk 65 Portland Rd\, Kennebunk\, ME
UID:e.1923.23109
SEQUENCE:3
DTSTAMP:20260421T220720Z
URL:https://chamber.gokennebunks.com/events/details/winter-solstice-12-21-2023-23109
END:VEVENT

END:VCALENDAR
