BEGIN:VCALENDAR
VERSION:2.0
PRODID:-//ChamberMaster//Event Calendar 2.0//EN
METHOD:PUBLISH
X-PUBLISHED-TTL:P3D
REFRESH-INTERVAL:P3D
CALSCALE:GREGORIAN
BEGIN:VEVENT
DTSTART:20250201T180000Z
DTEND:20250201T190000Z
X-MICROSOFT-CDO-ALLDAYEVENT:FALSE
SUMMARY:Winter Mixology Classes at The Burleigh
DESCRIPTION:Indulge in festive winter sips at The Burleigh Restaurant and enjoy the best of Kennebunkport this season\, where great flavors meet unforgettable entertainment.\n\n	Smoked Bourbon Mixology Class: Saturday\, January 11 | 1:00-2:00 PM | Book Here\n	Winter Cocktail Class: Saturday\, January 18 | 1:00-2:00 PM | Book Here\n	Spiked Cocoa and Coffee Class: Saturday\, February 1 | 2:00-3:00 PM | Book Here\n	Wines & Valentines: Saturday\, February 15 | 1:00-2:00 PM | Book Here\n	But First\, Tequila: Saturday\, February 22 | 2:00-3:00 PM | Book Here\n\n\n\nAll Burleigh Classes: https://www.eventbrite.com/cc/cocktail-classes-at-the-burleigh-3158879
X-ALT-DESC;FMTTYPE=text/html:Indulge in festive winter sips at The Burleigh Restaurant and enjoy the best of Kennebunkport this season\, where great flavors meet unforgettable entertainment.\n<ul>\n	<li><strong>Smoked Bourbon Mixology Class:&nbsp\;</strong>Saturday\, January 11&nbsp\;|&nbsp\;<span style="font-size:0.99rem">1:00-2:00 PM&nbsp\;|&nbsp\;</span><a href="https://www.eventbrite.com/e/smoked-bourbon-mixology-class-tickets-1112572086059?aff=oddtdtcreator" style="background-color: transparent\; box-sizing: border-box\; color: rgb(17\, 17\, 17)\; transition: 0.3s ease-in-out\; font-weight: bold\;" target="_blank">Book Here</a></li>\n	<li><strong>Winter Cocktail Class:&nbsp\;</strong>Saturday\, January 18&nbsp\;<span style="font-size:0.99rem">| 1:00-2:00 PM&nbsp\;|&nbsp\;</span><a href="https://www.eventbrite.com/e/winter-cocktail-class-at-the-burleigh-tickets-1112574954639?aff=oddtdtcreator" style="background-color: transparent\; box-sizing: border-box\; color: rgb(17\, 17\, 17)\; transition: 0.3s ease-in-out\; font-weight: bold\;" target="_blank">Book Here</a></li>\n	<li><strong>Spiked Cocoa and Coffee Class:&nbsp\;</strong>Saturday\, February 1&nbsp\;<span style="font-size:0.99rem">| 2:00-3:00 PM&nbsp\;|&nbsp\;</span><a href="https://www.eventbrite.com/e/spiked-cocoa-and-coffee-at-the-burleigh-tickets-1111888842459?aff=oddtdtcreator" style="background-color: transparent\; box-sizing: border-box\; color: rgb(17\, 17\, 17)\; transition: 0.3s ease-in-out\; font-weight: bold\;" target="_blank">Book Here</a></li>\n	<li><strong>Wines &amp\; Valentines:&nbsp\;</strong>Saturday\, February 15&nbsp\;<span style="font-size:0.99rem">| 1:00-2:00 PM&nbsp\;|&nbsp\;</span><a href="https://www.eventbrite.com/e/wines-valentines-at-the-burleigh-tickets-1111887077179?aff=oddtdtcreator" style="background-color: transparent\; box-sizing: border-box\; color: rgb(17\, 17\, 17)\; transition: 0.3s ease-in-out\; font-weight: bold\;" target="_blank">Book Here</a></li>\n	<li><strong>But First\, Tequila:&nbsp\;</strong>Saturday\, February 22&nbsp\;<span style="font-size:0.99rem">| 2:00-3:00 PM&nbsp\;|&nbsp\;</span><a href="https://www.eventbrite.com/e/but-first-tequila-at-the-burleigh-tickets-1111884308899?aff=oddtdtcreator" style="background-color: transparent\; box-sizing: border-box\; color: rgb(17\, 17\, 17)\; transition: 0.3s ease-in-out\; font-weight: bold\;" target="_blank">Book Here</a></li>\n</ul>\n<br />\n<strong><a href="https://www.eventbrite.com/cc/cocktail-classes-at-the-burleigh-3158879">All Burleigh Classes:&nbsp\;https://www.eventbrite.com/cc/cocktail-classes-at-the-burleigh-3158879</a></strong>
LOCATION:The Burleigh Restaurant at Kennebunkport Inn One Dock Square Kennebunkport\, Maine 04046
UID:e.1923.31467
SEQUENCE:3
DTSTAMP:20260420T230751Z
URL:https://chamber.gokennebunks.com/events/details/winter-mixology-classes-at-the-burleigh-02-01-2025-31467
END:VEVENT

END:VCALENDAR
