BEGIN:VCALENDAR
VERSION:2.0
PRODID:-//ChamberMaster//Event Calendar 2.0//EN
METHOD:PUBLISH
X-PUBLISHED-TTL:P3D
REFRESH-INTERVAL:P3D
CALSCALE:GREGORIAN
BEGIN:VEVENT
DTSTART:20200215T190000Z
DTEND:20200215T200000Z
X-MICROSOFT-CDO-ALLDAYEVENT:FALSE
SUMMARY:Wines & Valentines
DESCRIPTION:Join The Burleigh team at the Kennebunkport Inn for their annual Valentine's wine tasting\, Wines & Valentines.  Enjoy wine pairings and delicious small plates. *Class is open to adults 21 years of age or older.  Proper ID is required at door.\n\n$25 per person or $45 per couple.\n\nPurchase Tickets for Wines & Valentines
X-ALT-DESC;FMTTYPE=text/html:<p>Join The Burleigh team at the Kennebunkport Inn for their annual Valentine&rsquo\;s wine tasting\, Wines &amp\; Valentines. &nbsp\;Enjoy wine pairings and delicious small plates.&nbsp\;*Class is open to adults 21 years of age or older. &nbsp\;Proper ID is required at door.</p>\n\n<p>$25 per person or $45 per couple.<br />\n<a href="https://www.eventbrite.com/e/wines-valentines-at-the-burleigh-tickets-85997333339" rel="noopener" style="box-sizing: border-box\; color: rgb(0\, 0\, 0)\; font-family: Lato\; font-size: 16px\;" target="_blank"><span style="color:#FF0000">Purchase Tickets for Wines &amp\; Valentines</span></a></p>\n
LOCATION:The Burleigh at the Kennebunkport Inn One Dock Square | Kennebunkport\, ME
UID:e.1923.15589
SEQUENCE:3
DTSTAMP:20260424T101149Z
URL:https://chamber.gokennebunks.com/events/details/wines-valentines-02-15-2020-15589
END:VEVENT

END:VCALENDAR
