BEGIN:VCALENDAR
VERSION:2.0
PRODID:-//ChamberMaster//Event Calendar 2.0//EN
METHOD:PUBLISH
X-PUBLISHED-TTL:P3D
REFRESH-INTERVAL:P3D
CALSCALE:GREGORIAN
BEGIN:VEVENT
DTSTART:20240209T190000Z
DTEND:20240209T210000Z
X-MICROSOFT-CDO-ALLDAYEVENT:FALSE
SUMMARY:Wines in Winter at Earth
DESCRIPTION:Join us at Earth at Hidden Pond as we celebrate "Paint the Town Red" where you'll experience the warm and savory flavors of winter paired with a variety of blends. Enjoy canapes and sip on the sweet tastes of the chilly season.
X-ALT-DESC;FMTTYPE=text/html:Join us at Earth at Hidden Pond as we celebrate &quot\;Paint the Town Red&quot\; where you&#39\;ll experience the warm and savory flavors of winter paired with a variety of blends. Enjoy canapes and sip on the sweet tastes of the chilly season.
LOCATION:354 Goose Rocks Road Kennebunkport\, Maine 04046
UID:e.1923.23342
SEQUENCE:3
DTSTAMP:20260421T204648Z
URL:https://chamber.gokennebunks.com/events/details/wines-in-winter-at-earth-23342
END:VEVENT

END:VCALENDAR
