BEGIN:VCALENDAR
VERSION:2.0
PRODID:-//ChamberMaster//Event Calendar 2.0//EN
METHOD:PUBLISH
X-PUBLISHED-TTL:P3D
REFRESH-INTERVAL:P3D
CALSCALE:GREGORIAN
BEGIN:VEVENT
DTSTART:20250712T140000Z
DTEND:20250712T153000Z
X-MICROSOFT-CDO-ALLDAYEVENT:FALSE
SUMMARY:Wine Tasting + Bouquet Bar
DESCRIPTION:Stop by the Boulangerie in Kennebunk to sample 3 different wines\, including a non-alcoholic option! We will also have a Bouquet Bar featuring "Flower Child"!
X-ALT-DESC;FMTTYPE=text/html:Stop by the Boulangerie in Kennebunk to sample 3 different wines\, including a non-alcoholic option! We will also have a Bouquet Bar featuring &quot\;Flower Child&quot\;!
LOCATION:Boulangerie\, A Proper Bakery. 5 Nasons Ct Suite 12\, Kennebunk\, ME\, 04043.
UID:e.1923.37658
SEQUENCE:3
DTSTAMP:20260421T073714Z
URL:https://chamber.gokennebunks.com/events/details/wine-tasting-bouquet-bar-37658
END:VEVENT

END:VCALENDAR
