BEGIN:VCALENDAR
VERSION:2.0
PRODID:-//ChamberMaster//Event Calendar 2.0//EN
METHOD:PUBLISH
X-PUBLISHED-TTL:P3D
REFRESH-INTERVAL:P3D
CALSCALE:GREGORIAN
BEGIN:VEVENT
DTSTART;VALUE=DATE:20190109
DTEND;VALUE=DATE:20190110
TRANSP:TRANSPARENT
X-MICROSOFT-CDO-ALLDAYEVENT:TRUE
SUMMARY:Wine on Wednesday
DESCRIPTION:Explore the World's Best Wines with Our Award-Winning Wine List on Wednesdays\n\n\n\n* We will take $10 off any bottle of wine all day Wednesday.\n\n\n* We will take 50% off any bottle of wine between 5 and 7 PM on Wednesday.\n\n\n* We will open any bottle of wine any day of the week if you agree to purchase at least two glasses.
X-ALT-DESC;FMTTYPE=text/html:<div>\n<div><strong><span style="font-size:18pt">Explore the World&#39\;s Best Wines with Our Award-Winning Wine List on Wednesdays</span></strong></div>\n</div>\n\n<div>\n<p><span style="font-size:12pt">* We will take $10 off any bottle of wine all day Wednesday.</span></p>\n</div>\n\n<div><span style="font-size:12pt">* We will take 50% off any bottle of wine&nbsp\;<a dir="ltr" href="x-apple-data-detectors://16">between 5 and 7 PM on Wednesday</a>.</span></div>\n\n<div>\n<p><span style="font-family:calibri\,helvetica\,arial\,sans-serif\; font-size:12pt">* We will open any bottle of wine any day of the week if you agree to purchase at least two glasses.</span></p>\n</div>\n
LOCATION:Hurricane Restaurant
UID:e.1923.3273
SEQUENCE:3
DTSTAMP:20260425T030556Z
URL:https://chamber.gokennebunks.com/events/details/wine-on-wednesday-01-09-2019-3273
END:VEVENT

END:VCALENDAR
