BEGIN:VCALENDAR
VERSION:2.0
PRODID:-//ChamberMaster//Event Calendar 2.0//EN
METHOD:PUBLISH
X-PUBLISHED-TTL:P3D
REFRESH-INTERVAL:P3D
CALSCALE:GREGORIAN
BEGIN:VEVENT
DTSTART:20260404T180000Z
DTEND:20260404T193000Z
X-MICROSOFT-CDO-ALLDAYEVENT:FALSE
SUMMARY:Wine & Chocolate Truffle Tasting at Ocean
DESCRIPTION:Join us at Ocean for a deliciously sweet wine pairing and chocolate truffle tasting class. Enjoy guided wine tastings paired with rich chocolate flavors as you learn the art of crafting decadent truffles. This interactive experience blends sipping\, creating\, and indulging in a relaxed and social setting perfect for wine lovers and chocolate enthusiasts alike. Tickets include: ?? Guided Wine Tasting ?? Chocolate Truffle Tasting Class is open to adults 21 years of age or older. Proper ID is required at door. We look forward to seeing you. Part of Ocean's Spring into Summer Programming.
X-ALT-DESC;FMTTYPE=text/html:Join us at Ocean for a deliciously sweet wine pairing and chocolate truffle&ndash\;tasting class. Enjoy guided wine tastings paired with rich chocolate flavors as you learn the art of crafting decadent truffles. This interactive experience blends sipping\, creating\, and indulging in a relaxed and social setting&mdash\;perfect for wine lovers and chocolate enthusiasts alike. Tickets include: ?? Guided Wine Tasting ?? Chocolate Truffle Tasting Class is open to adults 21 years of age or older. Proper ID is required at door. We look forward to seeing you. Part of Ocean&#39\;s Spring into Summer Programming.
LOCATION:Ocean Restaurant\, Cape Arundel Inn & Resort 208 Ocean Avenue Kennebunkport\, ME 04046
UID:e.1923.38951
SEQUENCE:3
DTSTAMP:20260421T220817Z
URL:https://chamber.gokennebunks.com/events/details/wine-chocolate-truffle-tasting-at-ocean-38951
END:VEVENT

END:VCALENDAR
