BEGIN:VCALENDAR
VERSION:2.0
PRODID:-//ChamberMaster//Event Calendar 2.0//EN
METHOD:PUBLISH
X-PUBLISHED-TTL:P3D
REFRESH-INTERVAL:P3D
CALSCALE:GREGORIAN
BEGIN:VEVENT
DTSTART:20180908T150000Z
DTEND:20180908T190000Z
X-MICROSOFT-CDO-ALLDAYEVENT:FALSE
SUMMARY:William Barry's Vintage Fair
DESCRIPTION:William Barry's Vintage Fair celebrates this area's wealth of history and innovation\, showcasing current artists and makers that employ history and historic methods in their current work. Antiques\, traditional craft\, retro-inspired creations\, collectibles and foodway are all included. \n\n\n\nThe fair will take place in the Museum's courtyard on Saturday\, September 8th\, from 11:00am   3:00pm.\n\n\n\nThe Brick Store Museum is also accepting applications for artisans who wish to exhibit their work at William Barry's Vintage Fair. The fair will focus on historic and traditional crafts and art\, vintage-modern and retro antiques and current works\, and local artistry and organizations sculpting the culture of our area today.  Interested artisans are welcome to apply by following the instructions found on our website at http://www.brickstoremuseum.org/events/barrysvintagefair/.
X-ALT-DESC;FMTTYPE=text/html:William Barry&#39\;s Vintage Fair celebrates this area&rsquo\;s wealth of history and innovation\, showcasing current artists and makers that employ history and historic methods in their current work. Antiques\, traditional craft\, retro-inspired creations\, collectibles and foodway are all included.&nbsp\;<br />\n<br />\nThe fair will take place in the Museum&rsquo\;s courtyard on Saturday\, September 8th\, from 11:00am &ndash\; 3:00pm.<br />\n<br />\nThe Brick Store Museum is also accepting applications for artisans who wish to exhibit their work at William Barry&#39\;s Vintage Fair. The fair will focus on historic and traditional crafts and art\, vintage-modern and retro antiques and current works\, and local artistry and organizations sculpting the culture of our area today.&nbsp\; Interested artisans are welcome to apply by following the instructions found on our website at http://www.brickstoremuseum.org/events/barrysvintagefair/.&nbsp\;
LOCATION:Brick Store Museum 117 Main Street Kennebunk\, Maine 04043
UID:e.1923.11377
SEQUENCE:3
DTSTAMP:20260425T103906Z
URL:https://chamber.gokennebunks.com/events/details/william-barry-s-vintage-fair-11377
END:VEVENT

END:VCALENDAR
