BEGIN:VCALENDAR
VERSION:2.0
PRODID:-//ChamberMaster//Event Calendar 2.0//EN
METHOD:PUBLISH
X-PUBLISHED-TTL:P3D
REFRESH-INTERVAL:P3D
CALSCALE:GREGORIAN
BEGIN:VEVENT
DTSTART:20250709T140000Z
DTEND:20250709T163000Z
X-MICROSOFT-CDO-ALLDAYEVENT:FALSE
SUMMARY:Wild for Art Wednesday Drop-In Camp
DESCRIPTION:At the Brick Store Museum\, 117 Main St\, Kennebunk.  Join us for hands-on creativity all summer long! Each Wednesday\, kids ages 8 12 are invited to explore a variety of artistic projects from needle felting and embroidery to gelli printing and beyond. Every session includes a snack and outdoor break to keep those creative juices flowing. Workshops are designed to be fun\, engaging\, and accessible for all skill levels. Pre-registration is recommended\, but we'll welcome drop-ins until full. Visit www.brickstoremuseum.org/calendar
X-ALT-DESC;FMTTYPE=text/html:At the Brick Store Museum\, 117 Main St\, Kennebunk.&nbsp\; Join us for hands-on creativity all summer long! Each Wednesday\, kids ages 8&ndash\;12 are invited to explore a variety of artistic projects&mdash\;from needle felting and embroidery to gelli printing and beyond. Every session includes a snack and outdoor break to keep those creative juices flowing. Workshops are designed to be fun\, engaging\, and accessible for all skill levels. Pre-registration is recommended\, but we&rsquo\;ll welcome drop-ins until full. Visit <a href="http://www.brickstoremuseum.org/"><span style="color:windowtext">www.brickstoremuseum.org</span></a>/calendar
LOCATION:Brick Store Museum.
UID:e.1923.37614
SEQUENCE:3
DTSTAMP:20260421T073719Z
URL:https://chamber.gokennebunks.com/events/details/wild-for-art-wednesday-drop-in-camp-37614
END:VEVENT

END:VCALENDAR
