BEGIN:VCALENDAR
VERSION:2.0
PRODID:-//ChamberMaster//Event Calendar 2.0//EN
METHOD:PUBLISH
X-PUBLISHED-TTL:P3D
REFRESH-INTERVAL:P3D
CALSCALE:GREGORIAN
BEGIN:VEVENT
DTSTART:20191231T120000Z
DTEND:20191231T130000Z
X-MICROSOFT-CDO-ALLDAYEVENT:FALSE
SUMMARY:White Out Buti
DESCRIPTION:Let's ring in the new year with a bang! We're swapping the twinkle lights for the black lights to close out the decade with a twist. Dress in all white\, bring your game face + join us for a buti glow class.
X-ALT-DESC;FMTTYPE=text/html:Let&#39\;s ring in the new year with a bang! We&#39\;re swapping the twinkle lights for the black lights to close out the decade with a twist. Dress in all white\, bring your game face + join us for a buti glow class.
LOCATION:The Daily Sweat 65 Portland RD Building A\, Unit D\, Kennebunk\, ME 04043
UID:e.1923.15575
SEQUENCE:3
DTSTAMP:20260424T112418Z
URL:https://chamber.gokennebunks.com/events/details/white-out-buti-15575
END:VEVENT

END:VCALENDAR
