BEGIN:VCALENDAR
VERSION:2.0
PRODID:-//ChamberMaster//Event Calendar 2.0//EN
METHOD:PUBLISH
X-PUBLISHED-TTL:P3D
REFRESH-INTERVAL:P3D
CALSCALE:GREGORIAN
BEGIN:VEVENT
DTSTART;VALUE=DATE:20230821
DTEND;VALUE=DATE:20230826
TRANSP:TRANSPARENT
X-MICROSOFT-CDO-ALLDAYEVENT:TRUE
SUMMARY:When I Grow Up- The Musical
DESCRIPTION:Ages 5 to 7\n\n1 Week Session\n\n$425\n\nAUG 21 to AUG 25\n\nMON THRU FRI\, 9:00A - 2:00P\n\nA baker! A sailor! A cowboy! A movie star! Life offers so many choices for kids today\; they are free to be whatever they choose to be! When I Grow Up the musical explores these choices in today's lingo for today's kids. From a driving rock opener to a burly sailor chantey\, a soft-shoe baker song to an ambling cowboy tune\, this musical lets kids explore a variety of occupations and careers through music from composers John Jacobson and Emily Crocker. Our students will have fun as they project themselves into the future\, build self-esteem\, and have fun shouting to the world\, "I wanna be me WHEN I GROW UP!"
X-ALT-DESC;FMTTYPE=text/html:<p>Ages 5 to 7<br />\n1 Week Session<br />\n$425</p>\n\n<p>AUG 21 to AUG 25<br />\nMON THRU FRI\, 9:00A - 2:00P</p>\n\n<p>A baker! A sailor! A cowboy! A movie star! Life offers so many choices for kids today\; they are free to be whatever they choose to be! <em>When I Grow Up </em>the musical explores these choices in today&#39\;s lingo for today&#39\;s kids. From a driving rock opener to a burly sailor chantey\, a soft-shoe baker song to an ambling cowboy tune\, this musical lets kids explore a variety of occupations and careers through music from composers John Jacobson and Emily Crocker. Our students will have fun as they project themselves into the future\, build self-esteem\, and have fun shouting to the world\, &ldquo\;I wanna be me WHEN I GROW UP!&rdquo\;</p>\n
LOCATION:Ogunquit Playhouse
UID:e.1923.18518
SEQUENCE:3
DTSTAMP:20260422T033928Z
URL:https://chamber.gokennebunks.com/events/details/when-i-grow-up-the-musical-18518
END:VEVENT

END:VCALENDAR
