BEGIN:VCALENDAR
VERSION:2.0
PRODID:-//ChamberMaster//Event Calendar 2.0//EN
METHOD:PUBLISH
X-PUBLISHED-TTL:P3D
REFRESH-INTERVAL:P3D
CALSCALE:GREGORIAN
BEGIN:VEVENT
DTSTART:20241217T190000Z
DTEND:20241217T200000Z
X-MICROSOFT-CDO-ALLDAYEVENT:FALSE
SUMMARY:What You Need to Know for January 1: Maine PFML Implementation
DESCRIPTION:As Maine's Paid Family and Medical Leave (PFML) program takes effect on January 1\, 2025\, businesses need to be prepared for the changes. This webinar will cover everything we know about the program's implementation\, from registration requirements to compliance guidelines. Join us to learn how your business can stay on track with deadlines\, understand the key elements of the PFML program\, and ensure that your payroll processes are aligned with the new regulations. Whether you're a small business or a larger organization\, this session will provide the essential steps to prepare and avoid any surprises when the new law takes effect.
X-ALT-DESC;FMTTYPE=text/html:As Maine&rsquo\;s Paid Family and Medical Leave (PFML) program takes effect on January 1\, 2025\, businesses need to be prepared for the changes. This webinar will cover everything we know about the program&#39\;s implementation\, from registration requirements to compliance guidelines. Join us to learn how your business can stay on track with deadlines\, understand the key elements of the PFML program\, and ensure that your payroll processes are aligned with the new regulations. Whether you&#39\;re a small business or a larger organization\, this session will provide the essential steps to prepare and avoid any surprises when the new law takes effect.
LOCATION:Zoom/Online
UID:e.1923.31383
SEQUENCE:3
DTSTAMP:20260421T020927Z
URL:https://chamber.gokennebunks.com/events/details/what-you-need-to-know-for-january-1-maine-pfml-implementation-31383
END:VEVENT

END:VCALENDAR
