BEGIN:VCALENDAR
VERSION:2.0
PRODID:-//ChamberMaster//Event Calendar 2.0//EN
METHOD:PUBLISH
X-PUBLISHED-TTL:P3D
REFRESH-INTERVAL:P3D
CALSCALE:GREGORIAN
BEGIN:VEVENT
DTSTART:20250121T190000Z
DTEND:20250121T200000Z
X-MICROSOFT-CDO-ALLDAYEVENT:FALSE
SUMMARY:What’s in Your Handbook? 2025 Labor Law Updates You Need to Know About
DESCRIPTION:Labor laws are constantly evolving\, and staying up-to-date is crucial to ensuring compliance and protecting your business. In this webinar\, we will review the significant labor law changes for 2025\, including new federal and state regulations that directly impact employee handbooks. From wage and hour laws to employee leave policies\, we'll break down what these updates mean for your business and guide you on revising your handbook to reflect the latest requirements. Stay ahead of the curve and avoid costly mistakes by making sure your policies are in line with the newest regulations. Co-Sponsored by the KKA Chamber of Commerce
X-ALT-DESC;FMTTYPE=text/html:Labor laws are constantly evolving\, and staying up-to-date is crucial to ensuring compliance and protecting your business. In this webinar\, we will review the significant labor law changes for 2025\, including new federal and state regulations that directly impact employee handbooks. From wage and hour laws to employee leave policies\, we&#39\;ll break down what these updates mean for your business and guide you on revising your handbook to reflect the latest requirements. Stay ahead of the curve and avoid costly mistakes by making sure your policies are in line with the newest regulations. Co-Sponsored by the KKA Chamber of Commerce
LOCATION:Zoom/Online
UID:e.1923.31384
SEQUENCE:3
DTSTAMP:20260421T003727Z
URL:https://chamber.gokennebunks.com/events/details/what-s-in-your-handbook-2025-labor-law-updates-you-need-to-know-about-31384
END:VEVENT

END:VCALENDAR
