BEGIN:VCALENDAR
VERSION:2.0
PRODID:-//ChamberMaster//Event Calendar 2.0//EN
METHOD:PUBLISH
X-PUBLISHED-TTL:P3D
REFRESH-INTERVAL:P3D
CALSCALE:GREGORIAN
BEGIN:VEVENT
DTSTART:20180617T000000Z
DTEND:20180617T020000Z
X-MICROSOFT-CDO-ALLDAYEVENT:FALSE
SUMMARY:Well-Strung
DESCRIPTION:Well-Strung stars first violinist Edmund Bagnell\, second violinist Christopher Marchant\, cellist Daniel Shevlin and violist Trevor Wadleigh. The quartet features classical musicians who sing putting their own spin on the music of Mozart\, Beethoven\, Pink\, Lorde\, Madonna\, Gotye\, U2\, and more.
X-ALT-DESC;FMTTYPE=text/html:Well-Strung stars first violinist Edmund Bagnell\, second violinist Christopher Marchant\, cellist Daniel Shevlin and violist Trevor Wadleigh. The quartet features classical musicians who sing putting their own spin on the music of Mozart\, Beethoven\, Pink\, Lorde\, Madonna\, Gotye\, U2\, and more.
LOCATION:Vinegar Hill Music Theatre 53 Old Post Rd. Arundel\, ME 04046
UID:e.1923.7159
SEQUENCE:3
DTSTAMP:20260425T143029Z
URL:https://chamber.gokennebunks.com/events/details/well-strung-7159
END:VEVENT

END:VCALENDAR
