BEGIN:VCALENDAR
VERSION:2.0
PRODID:-//ChamberMaster//Event Calendar 2.0//EN
METHOD:PUBLISH
X-PUBLISHED-TTL:P3D
REFRESH-INTERVAL:P3D
CALSCALE:GREGORIAN
BEGIN:VEVENT
DTSTART:20190811T000000Z
DTEND:20190811T023000Z
X-MICROSOFT-CDO-ALLDAYEVENT:FALSE
SUMMARY:Well-Strung
DESCRIPTION:We cannot get enough of Well-Strung here at Vinegar Hill\, so we are bringing them back with their brand new album\, 'Under the Covers'! Well-Strung stars first violinist Edmund Bagnell\, second violinist Christopher Marchant\, cellist Daniel Shevlin and violist Trevor Wadleigh. The quartet features classical musicians who sing putting their own spin on the music of Mozart\, Beethoven\, Pink\, Lorde\, Madonna\, Gotye\, U2\, and more. You will not want to miss this performance!
X-ALT-DESC;FMTTYPE=text/html:We cannot get enough of Well-Strung here at Vinegar Hill\, so we are bringing them back with their brand new album\, &#39\;Under the Covers&#39\;! Well-Strung stars first violinist Edmund Bagnell\, second violinist Christopher Marchant\, cellist Daniel Shevlin and violist Trevor Wadleigh. The quartet features classical musicians who sing putting their own spin on the music of Mozart\, Beethoven\, Pink\, Lorde\, Madonna\, Gotye\, U2\, and more. You will not want to miss this performance!
LOCATION:Vinegar Hill Music Theatre 53 Old Post Rd Arundel\, ME 04046
UID:e.1923.11544
SEQUENCE:3
DTSTAMP:20260424T165548Z
URL:https://chamber.gokennebunks.com/events/details/well-strung-07-20-2019-11544
END:VEVENT

END:VCALENDAR
