BEGIN:VCALENDAR
VERSION:2.0
PRODID:-//ChamberMaster//Event Calendar 2.0//EN
METHOD:PUBLISH
X-PUBLISHED-TTL:P3D
REFRESH-INTERVAL:P3D
CALSCALE:GREGORIAN
BEGIN:VEVENT
DTSTART:20241204T223000Z
DTEND:20241205T003000Z
X-MICROSOFT-CDO-ALLDAYEVENT:FALSE
SUMMARY:Wednesday Paint Nights: Intro to Gouache
DESCRIPTION:We will create fun\, stylized\, paintings inspired by nature. You will learn basic gouache techniques to create beautiful art without needing to draw. Demonstrations will be projected onto a large screen as well as students receiving personal instruction. This class is for beginners. All materials are provided. Come relax and create! Please bring a water bottle with your beverage of choice.
X-ALT-DESC;FMTTYPE=text/html:<span style="color:rgb(68\, 68\, 68)\; font-family:helvetica neue\,helvetica\,arial\,sans-serif\; font-size:16px">We will create fun\, stylized\, paintings inspired by nature. You will learn basic gouache techniques to create beautiful art without needing to draw. Demonstrations will be projected onto a large screen as well as students receiving personal instruction. This class is for beginners. All materials are provided. Come relax and create! Please bring a water bottle with your beverage of choice.</span>
LOCATION:River Tree Arts 35 Western Ave.\, Kennebunk\, ME 04043
UID:e.1923.31000
SEQUENCE:3
DTSTAMP:20260421T032826Z
URL:https://chamber.gokennebunks.com/events/details/wednesday-paint-nights-intro-to-gouache-12-04-2024-31000
END:VEVENT

END:VCALENDAR
