BEGIN:VCALENDAR
VERSION:2.0
PRODID:-//ChamberMaster//Event Calendar 2.0//EN
METHOD:PUBLISH
X-PUBLISHED-TTL:P3D
REFRESH-INTERVAL:P3D
CALSCALE:GREGORIAN
BEGIN:VEVENT
DTSTART;VALUE=DATE:20240202
DTEND;VALUE=DATE:20240203
TRANSP:TRANSPARENT
X-MICROSOFT-CDO-ALLDAYEVENT:TRUE
SUMMARY:wear red day
DESCRIPTION:we're raising awareness of heart disease all month\, in many different ways. we sweat to improve our cardiovascular health\, we bring friend to help improve theirs as well. wear red to classes all day today to raise awareness about heart health in our community and nation. Bring your friends\, drop ins are just $5 all day
X-ALT-DESC;FMTTYPE=text/html:we&rsquo\;re raising awareness of heart disease all month\, in many different ways. we sweat to improve our cardiovascular health\, we bring friend to help improve theirs as well. wear red to classes all day today to raise awareness about heart health in our community and nation. Bring your friends\, drop ins are just $5 all day
LOCATION:the daily sweat 65 portland rd. kennebunk\, me 04043
UID:e.1923.23355
SEQUENCE:3
DTSTAMP:20260421T204640Z
URL:https://chamber.gokennebunks.com/events/details/wear-red-day-02-02-2024-23355
END:VEVENT

END:VCALENDAR
