BEGIN:VCALENDAR
VERSION:2.0
PRODID:-//ChamberMaster//Event Calendar 2.0//EN
METHOD:PUBLISH
X-PUBLISHED-TTL:P3D
REFRESH-INTERVAL:P3D
CALSCALE:GREGORIAN
BEGIN:VEVENT
DTSTART;VALUE=DATE:20230814
DTEND;VALUE=DATE:20230819
TRANSP:TRANSPARENT
X-MICROSOFT-CDO-ALLDAYEVENT:TRUE
SUMMARY:We Are Monsters- A New Children's Musical
DESCRIPTION:Ages 8 to 12\n\n1 Week Session\n\n$600\n\nAUG 14 to AUG 18\n\nMON THRU FRI\, 9:00A - 4:00P\n\nWe Are Monsters is a hilarious NEW 60-minute musical cabaret that follows human kids into a monster cabaret filled with quirky monster characters. The adventurous humans uncover vegetarian vampires and rock n' roll werewolves\, gradually realizing there may be more to these monsters than meets the eye! Most importantly these monsters and kids discover the importance of friendship and celebrating in the attributes that make each of us different and unique.\n\nPERFORMANCE FOR FAMILIES AND FRIENDS\n\nThe Playhouse Colony\n\nFRI AUG 18   Noon
X-ALT-DESC;FMTTYPE=text/html:<p>Ages 8 to 12<br />\n1 Week Session<br />\n$600</p>\n\n<p>AUG 14 to AUG 18<br />\nMON THRU FRI\, 9:00A - 4:00P</p>\n\n<p>We Are Monsters is a hilarious NEW 60-minute musical cabaret that follows human kids into a monster cabaret filled with quirky monster characters. The adventurous humans uncover vegetarian vampires and rock n&rsquo\; roll werewolves\, gradually realizing there may be more to these monsters than meets the eye! Most importantly these monsters and kids discover the importance of friendship and celebrating in the attributes that make each of us different and unique.<br />\n<strong>PERFORMANCE FOR FAMILIES AND FRIENDS</strong><br />\n<em>The Playhouse Colony</em><br />\n<span style="background-color:rgb(245\, 245\, 245)\; color:rgb(87\, 87\, 87)\; font-family:poppins\; font-size:16px">FRI AUG 18 &mdash\; Noon</span></p>\n
LOCATION:Ogunquit Playhouse 10 Main St Ogunquit\, ME 03907
UID:e.1923.18515
SEQUENCE:3
DTSTAMP:20260422T050032Z
URL:https://chamber.gokennebunks.com/events/details/we-are-monsters-a-new-children-s-musical-18515
END:VEVENT

END:VCALENDAR
