BEGIN:VCALENDAR
VERSION:2.0
PRODID:-//ChamberMaster//Event Calendar 2.0//EN
METHOD:PUBLISH
X-PUBLISHED-TTL:P3D
REFRESH-INTERVAL:P3D
CALSCALE:GREGORIAN
BEGIN:VEVENT
DTSTART:20230401T180000Z
DTEND:20230401T200000Z
X-MICROSOFT-CDO-ALLDAYEVENT:FALSE
SUMMARY:Watercolor Painting at Cape Arundel Inn & Resort | April 1st\, 2023
DESCRIPTION:Enjoy taking a moment to create your own watercolor masterpiece\, with local artist\, Diane. You will have plenty of inspiration to choose from at Ocean's dining room at Cape Arundel Inn & Resort\, located on Ocean Ave with an uninterrupted view of Maine's rocky coast. Diane will guide you through basic watercolor painting techniques\, so you can create your own\, one-of-a kind masterpiece. Each paint night is themed and includes one glass of bubbles. Make a night of it and secure a dinner reservation at Ocean after the class!
X-ALT-DESC;FMTTYPE=text/html:Enjoy taking a moment to create your own watercolor masterpiece\, with local artist\, Diane. You will have plenty of inspiration to choose from at Ocean&#39\;s dining room at Cape Arundel Inn &amp\; Resort\, located on Ocean Ave with an uninterrupted view of Maine&#39\;s rocky coast. Diane will guide you through basic watercolor painting techniques\, so you can create your own\, one-of-a kind masterpiece. Each paint night is themed and includes one glass of bubbles. Make a night of it and secure a dinner reservation at Ocean after the class!
LOCATION:Cape Arundel Inn & Resort 208 Ocean Ave Kennebunkport\, ME 04046
UID:e.1923.18564
SEQUENCE:3
DTSTAMP:20260424T114021Z
URL:https://chamber.gokennebunks.com/events/details/watercolor-painting-at-cape-arundel-inn-resort-april-1st-2023-18564
END:VEVENT

END:VCALENDAR
