BEGIN:VCALENDAR
VERSION:2.0
PRODID:-//ChamberMaster//Event Calendar 2.0//EN
METHOD:PUBLISH
X-PUBLISHED-TTL:P3D
REFRESH-INTERVAL:P3D
CALSCALE:GREGORIAN
BEGIN:VEVENT
DTSTART;VALUE=DATE:20230726
DTEND;VALUE=DATE:20230901
TRANSP:TRANSPARENT
X-MICROSOFT-CDO-ALLDAYEVENT:TRUE
SUMMARY:Wallingford Farm's Garden Cafe\, Open Now!
DESCRIPTION:Wallingford Farm's Garden Cafe is now open for business! Enjoy hot dogs\, soft serve ice cream\, and our organic juice bar in our beautiful cafe\, surrounded by our gardens. Grab a cold craft beer from our beverage coolers\, or a fresh baked sweet treat from our bakery\, located inside the farm store\, to snack on amongst the flowers as well!\n\nOpen every day\, 11:00am-4:00pm!
X-ALT-DESC;FMTTYPE=text/html:Wallingford Farm&#39\;s Garden Cafe is now open for business! Enjoy hot dogs\, soft serve ice cream\, and our organic juice bar in our beautiful cafe\, surrounded by our gardens. Grab a cold craft beer from our beverage coolers\, or a fresh baked sweet treat from our bakery\, located inside the farm store\, to snack on amongst the flowers as well!<br />\nOpen every day\, 11:00am-4:00pm!
LOCATION:Wallingford Farm 21 York Street Kennebunk\, ME 04043
UID:e.1923.22398
SEQUENCE:3
DTSTAMP:20260422T034056Z
URL:https://chamber.gokennebunks.com/events/details/wallingford-farm-s-garden-cafe-open-now-22398
END:VEVENT

END:VCALENDAR
